BEGIN:VCALENDAR
VERSION:2.0
PRODID:-//MQHRA - ECPv6.15.20//NONSGML v1.0//EN
CALSCALE:GREGORIAN
METHOD:PUBLISH
X-WR-CALNAME:MQHRA
X-ORIGINAL-URL:https://mqhra.com
X-WR-CALDESC:Events for MQHRA
REFRESH-INTERVAL;VALUE=DURATION:PT1H
X-Robots-Tag:noindex
X-PUBLISHED-TTL:PT1H
BEGIN:VTIMEZONE
TZID:America/Chicago
BEGIN:DAYLIGHT
TZOFFSETFROM:-0600
TZOFFSETTO:-0500
TZNAME:CDT
DTSTART:20230312T080000
END:DAYLIGHT
BEGIN:STANDARD
TZOFFSETFROM:-0500
TZOFFSETTO:-0600
TZNAME:CST
DTSTART:20231105T070000
END:STANDARD
BEGIN:DAYLIGHT
TZOFFSETFROM:-0600
TZOFFSETTO:-0500
TZNAME:CDT
DTSTART:20240310T080000
END:DAYLIGHT
BEGIN:STANDARD
TZOFFSETFROM:-0500
TZOFFSETTO:-0600
TZNAME:CST
DTSTART:20241103T070000
END:STANDARD
BEGIN:DAYLIGHT
TZOFFSETFROM:-0600
TZOFFSETTO:-0500
TZNAME:CDT
DTSTART:20250309T080000
END:DAYLIGHT
BEGIN:STANDARD
TZOFFSETFROM:-0500
TZOFFSETTO:-0600
TZNAME:CST
DTSTART:20251102T070000
END:STANDARD
END:VTIMEZONE
BEGIN:VEVENT
DTSTART;TZID=America/Chicago:20240724T170000
DTEND;TZID=America/Chicago:20240724T230000
DTSTAMP:20260423T100145
CREATED:20240113T222934Z
LAST-MODIFIED:20240113T222934Z
UID:8604-1721840400-1721862000@mqhra.com
SUMMARY:Trials for Northlands Futurity
DESCRIPTION:
URL:https://mqhra.com/event/trials-for-northlands-futurity/
LOCATION:Canterbury Park\, Shakopee
CATEGORIES:TRIALS RACES
END:VEVENT
BEGIN:VEVENT
DTSTART;TZID=America/Chicago:20240724T170000
DTEND;TZID=America/Chicago:20240724T230000
DTSTAMP:20260423T100145
CREATED:20240113T222934Z
LAST-MODIFIED:20240113T222934Z
UID:8605-1721840400-1721862000@mqhra.com
SUMMARY:Trials for Canterbury Quarter Horse Derby
DESCRIPTION:
URL:https://mqhra.com/event/trials-for-canterbury-quarter-horse-derby/
LOCATION:Canterbury Park\, Shakopee
CATEGORIES:TRIALS RACES
END:VEVENT
BEGIN:VEVENT
DTSTART;TZID=America/Chicago:20240703T010000
DTEND;TZID=America/Chicago:20240703T010000
DTSTAMP:20260423T100145
CREATED:20240113T222920Z
LAST-MODIFIED:20240113T222920Z
UID:8603-1719968400-1719968400@mqhra.com
SUMMARY:Trials for Caterbury Park Distaff Challenge (G3)
DESCRIPTION:
URL:https://mqhra.com/event/trials-for-caterbury-park-distaff-challenge-g3/
LOCATION:Canterbury Park\, Shakopee
CATEGORIES:TRIALS RACES
END:VEVENT
END:VCALENDAR